BEGIN:VCALENDAR
VERSION:2.0
PRODID:-//Lygnens Venner - ECPv6.15.20//NONSGML v1.0//EN
CALSCALE:GREGORIAN
METHOD:PUBLISH
X-ORIGINAL-URL:https://lvg.nu
X-WR-CALDESC:Händelser för Lygnens Venner
REFRESH-INTERVAL;VALUE=DURATION:PT1H
X-Robots-Tag:noindex
X-PUBLISHED-TTL:PT1H
BEGIN:VTIMEZONE
TZID:Europe/Stockholm
BEGIN:DAYLIGHT
TZOFFSETFROM:+0100
TZOFFSETTO:+0200
TZNAME:CEST
DTSTART:20220327T010000
END:DAYLIGHT
BEGIN:STANDARD
TZOFFSETFROM:+0200
TZOFFSETTO:+0100
TZNAME:CET
DTSTART:20221030T010000
END:STANDARD
BEGIN:DAYLIGHT
TZOFFSETFROM:+0100
TZOFFSETTO:+0200
TZNAME:CEST
DTSTART:20230326T010000
END:DAYLIGHT
BEGIN:STANDARD
TZOFFSETFROM:+0200
TZOFFSETTO:+0100
TZNAME:CET
DTSTART:20231029T010000
END:STANDARD
BEGIN:DAYLIGHT
TZOFFSETFROM:+0100
TZOFFSETTO:+0200
TZNAME:CEST
DTSTART:20240331T010000
END:DAYLIGHT
BEGIN:STANDARD
TZOFFSETFROM:+0200
TZOFFSETTO:+0100
TZNAME:CET
DTSTART:20241027T010000
END:STANDARD
END:VTIMEZONE
BEGIN:VEVENT
DTSTART;TZID=Europe/Stockholm:20230924T100000
DTEND;TZID=Europe/Stockholm:20230924T140000
DTSTAMP:20260422T124716
CREATED:20230704T174033Z
LAST-MODIFIED:20230921T154031Z
UID:10000305-1695549600-1695564000@lvg.nu
SUMMARY:Klubbmästerskap partempo 2023
DESCRIPTION:Dags för KM i partempo\nOBS! NOTERA ERA STARTTIDER OCH EV. ÄNDRINGAR senast lördag 23/9 \nKM PARTEMPO\,   START \n\nKristin Utbult – Martin Utbult  10:00:00\nAndreas Haggärde – Carl Erkenstam 10:02:00\nDario Mantino – Carlo Pirazzi 10:04:00\nSebastian Linke – Fabio Abate 10:06:00\nDuncan Robinson – Claes Nilsson 10:08:00\nPeter Jonsson – Christian von Corswant 10:10:00\nAnders Alexandersso – Jan Olsson 10:12:00\nHans Carlberg – CG Andersson  10:14:00\n\nINDIVIDUELLT TEMPO\,  START \n\nKristin Utbult 10:45:00\nMartin Utbult  10:46:00\nCarl Erkenstam 10:47:00\nAndreas Haggärde 10:48:00\nDario Mantino 10:49:00\nCarlo Pirazzi 10:50:00\nFabio Abate 10:51:00\nSebastian Linke 10:52:00\nClaes Nilsson 10:53:00\nDuncan Robinson 10:54:00\nPeter Jonsson 10:55:00\nChristian von Corswant 10:56:00\nAnders Alexandersson 10:57:00\nJan Olsson 10:58:00\nHans Carlberg 10:59:00\nCG Andersson  11:00:00\n\nEFTERANMÄLNINGAR SENAST FREDAG 22/9 \nFunktionärer: Lars-Inge Kjörnsberg\, Mats Gustafsson \nVälkomna till Åsa och årets klubbmästerskap i partempo + individuellt tempo söndag 24 september!\nLars-Inge och Mats \n\nÅTERSAMLING CIRKA 12.30 PÅ FREADALS GÅRD DÄR KLUBBEN BJUDER PÅ HAMBURGARE\n\n\nNu är sträckningen och upplägget för året Klubbmästerskap spikat. Efter flera sammanträden i tävlingsledningen har vi bestämt att vi i år förnyar oss – det blir två etapper med sammanlagd tid i år! Vi startar med ett snabbt partempo med prologdistans\, 4\,25 km. Efter målgång pustar man ut och sen rullar man upp till samma start igen och denna gång kör vi samma bana\, 4\,25 km\, men i individuellt tempo. Sen lägger vi ihop partempotiden plus de två individuella tempotiderna. Vinnare i resp. klass är kortaste sammanlagd tid. Dock för vandringspriset\, de två klassiska tempohjälmarna från DDR\, är det endast partempotiden som gäller. \nFörst kör vi alltså partempo och första start kommer att vara 10.00 och sedan 2 min mellanrum mellan paren. Efter målgång rullar man alltså upp till starten igen och första individuella tempostart kommer prel. att vara kl. 10.45 och här kommer det att vara 1 min startmellanrum. \nÅrets sträckning är mittdelen av de sista två årens KM-bana. Start vid busskylt vid T-korsning Breared och målgång vid väg in till Landa Kyrka. Här har ni länken på årets KM-bana: https://ridewithgps.com/routes/44257264 \nNågra viktiga regler:\n1/ Endast racercyklar får användas. Inga tempocyklar\, inga ”tempopinnar”\, inga täckta hjul.\n2/ Självfallet håller vi stenhårt på trafikreglerna\, vi cyklar på höger sida av vägen\, aldrig över mittlinjen. Efter målgång på partempot är det otroligt viktigt att man har stenkoll både på bilar/cyklister innan man gör en U-sväng för att rulla upp till starten av det indivduella tempot.\n3/ Blir man omkörd ska man omedelbart släppa de/den omkörande cyklisterna/cyklisten minst 30 m. Detta gäller både vid partempot och det individuella tempot. \nOmbyte precis som förra året vid Åsa IF:s klubbstuga. Räkna med 25-30 minuters cykling härifrån upp till starten. Efter partempot ska man räkna med ca. 15 minuters cykling tillbaka upp till starten för det individuella tempot. \nEfter grinig förkylning med efterhängsen hosta har race directors tagit bort sin anmälan till årets race\, i stället tar vi hand om det som gör att vi kan genomföra KM – nämligen funktionärskapet bestående av start och tidtagning vid målgång. Nästa år utgår vi från att någon av årets deltagare självmant anmäler sig som funktionärer. \nBara några dagar kvar till årets KM\, in och anmäl er nu! Skriv i övrigt rutan vem du anmäler dig med och födelseår för båda. Och så är det ju fritt fram för testkörning på årets sträckning! \nVälkommen till Åsa och årets klubbmästerskap i partempo + individuellt tempo söndag 24 september! ÅSA IF: klubbstuga kommer att vara öppen från 08.15 och första start är kl. 10.00. Sista målgång ca. 11.15\, därefter dusch och ombyte. Kl. 12.30 lunch på Freadals gård och ca. 14.00 är det dags för hemfärd.\nLars-Inge och Mats\nRace Directors KM
URL:https://lvg.nu/event/klubbmasterskap-partempo-2023/
LOCATION:Åsa IF klubbstuga\, Hultavägen 8\, Åsa\, 439 55\, Sweden
CATEGORIES:KM
ATTACH;FMTTYPE=image/jpeg:https://lvg.nu/wp-content/uploads/2022/10/IMG_8040-1-scaled.jpg
END:VEVENT
END:VCALENDAR