BEGIN:VCALENDAR
VERSION:2.0
PRODID:-//Lygnens Venner - ECPv6.15.20//NONSGML v1.0//EN
CALSCALE:GREGORIAN
METHOD:PUBLISH
X-ORIGINAL-URL:https://lvg.nu
X-WR-CALDESC:Händelser för Lygnens Venner
REFRESH-INTERVAL;VALUE=DURATION:PT1H
X-Robots-Tag:noindex
X-PUBLISHED-TTL:PT1H
BEGIN:VTIMEZONE
TZID:Europe/Stockholm
BEGIN:DAYLIGHT
TZOFFSETFROM:+0100
TZOFFSETTO:+0200
TZNAME:CEST
DTSTART:20210328T010000
END:DAYLIGHT
BEGIN:STANDARD
TZOFFSETFROM:+0200
TZOFFSETTO:+0100
TZNAME:CET
DTSTART:20211031T010000
END:STANDARD
BEGIN:DAYLIGHT
TZOFFSETFROM:+0100
TZOFFSETTO:+0200
TZNAME:CEST
DTSTART:20220327T010000
END:DAYLIGHT
BEGIN:STANDARD
TZOFFSETFROM:+0200
TZOFFSETTO:+0100
TZNAME:CET
DTSTART:20221030T010000
END:STANDARD
BEGIN:DAYLIGHT
TZOFFSETFROM:+0100
TZOFFSETTO:+0200
TZNAME:CEST
DTSTART:20230326T010000
END:DAYLIGHT
BEGIN:STANDARD
TZOFFSETFROM:+0200
TZOFFSETTO:+0100
TZNAME:CET
DTSTART:20231029T010000
END:STANDARD
END:VTIMEZONE
BEGIN:VEVENT
DTSTART;TZID=Europe/Stockholm:20220507T084500
DTEND;TZID=Europe/Stockholm:20220507T221500
DTSTAMP:20260424T004338
CREATED:20220406T192808Z
LAST-MODIFIED:20220406T193720Z
UID:10000158-1651913100-1651961700@lvg.nu
SUMMARY:Lygnens Brevet Brevid
DESCRIPTION:Landsvägscykling  –  Distanspass  –  200 km\nStartplats: Klubblokalen \nAnsvarig: Linus Hermansson \nBana: https://ridewithgps.com/routes/38862189\n  \nVid träning med klubben gäller följande regler.\n• Godkänd cykelhjälm skall användas.\n• Cykeln skall ha ett fungerande bromssystem.\n• Vid cykling i mörker skall belysning finnas och gärna reflexväst.\n• Vid klubbens normala gruppcykling är inte tempostyre tillåtet.\n• Vi följer gällande trafikregler\n• Passledarens direktiv skall följas\n• Ladda gärna ner appen 112 \nLäs gärna igenom klubbens träningspolicy oavsett om ni är ny eller gammal i klubben.
URL:https://lvg.nu/event/brevetlopp-20-mil-inofficiellt/
LOCATION:Klubblokalen\, Flygradiogatan 40\, Västra Frölunda\, 42134\, Sweden
CATEGORIES:Brevet
END:VEVENT
END:VCALENDAR