BEGIN:VCALENDAR
VERSION:2.0
PRODID:-//Lygnens Venner - ECPv6.15.20//NONSGML v1.0//EN
CALSCALE:GREGORIAN
METHOD:PUBLISH
X-ORIGINAL-URL:https://lvg.nu
X-WR-CALDESC:Händelser för Lygnens Venner
REFRESH-INTERVAL;VALUE=DURATION:PT1H
X-Robots-Tag:noindex
X-PUBLISHED-TTL:PT1H
BEGIN:VTIMEZONE
TZID:Europe/Stockholm
BEGIN:DAYLIGHT
TZOFFSETFROM:+0100
TZOFFSETTO:+0200
TZNAME:CEST
DTSTART:20250330T010000
END:DAYLIGHT
BEGIN:STANDARD
TZOFFSETFROM:+0200
TZOFFSETTO:+0100
TZNAME:CET
DTSTART:20251026T010000
END:STANDARD
BEGIN:DAYLIGHT
TZOFFSETFROM:+0100
TZOFFSETTO:+0200
TZNAME:CEST
DTSTART:20260329T010000
END:DAYLIGHT
BEGIN:STANDARD
TZOFFSETFROM:+0200
TZOFFSETTO:+0100
TZNAME:CET
DTSTART:20261025T010000
END:STANDARD
BEGIN:DAYLIGHT
TZOFFSETFROM:+0100
TZOFFSETTO:+0200
TZNAME:CEST
DTSTART:20270328T010000
END:DAYLIGHT
BEGIN:STANDARD
TZOFFSETFROM:+0200
TZOFFSETTO:+0100
TZNAME:CET
DTSTART:20271031T010000
END:STANDARD
END:VTIMEZONE
BEGIN:VEVENT
DTSTART;TZID=Europe/Stockholm:20260426T090000
DTEND;TZID=Europe/Stockholm:20260426T130000
DTSTAMP:20260419T190706
CREATED:20260417T144715Z
LAST-MODIFIED:20260417T144715Z
UID:10000687-1777194000-1777208400@lvg.nu
SUMMARY:Distansträning med Sub 9:30
DESCRIPTION:Träning: Landsvägscykling\nPasstyp: Distans 110 km\nStartplats: Åbybadet \nBana: https://www.strava.com/routes/3480215309203630534\nPassledare: Bauke de Jong\nHjälpryttare: Christian von Corsewant\nInfo från passledaren: \n\nVi varierar mellan 2-par\, belgisk kedja och 1-led beroende på väg och förhållanden. Fokus på belgisk denna söndag! \nVi avslutar med frivillig fika efter passet. \nVid träning med klubben gäller följande regler.\n• Godkänd cykelhjälm skall användas.\n• Cykeln skall ha ett fungerande bromssystem.\n• Vid cykling i mörker skall belysning finnas och gärna reflexväst.\n• Vid klubbens normala gruppcykling är inte tempostyre tillåtet.\n• Vi följer gällande trafikregler\n• Passledarens direktiv skall följas\nLadda gärna ner appen 112 \nLäs gärna igenom klubbens träningspolicy oavsett om ni är ny eller gammal i klubben.
URL:https://lvg.nu/event/distanstraning-med-sub-930/
LOCATION:Åby Simhall\, Idrottsvägen 9\, Mölndal\, 431 62'
CATEGORIES:Söndagsrundor,Sub träning
ATTACH;FMTTYPE=image/png:https://lvg.nu/wp-content/uploads/2026/04/Sub-930-26-april.png
ORGANIZER;CN="Lygnens Venner":MAILTO:webmaster@lvg.nu
END:VEVENT
BEGIN:VEVENT
DTSTART;TZID=Europe/Stockholm:20260517T085500
DTEND;TZID=Europe/Stockholm:20260517T140000
DTSTAMP:20260419T190706
CREATED:20260328T140135Z
LAST-MODIFIED:20260401T155416Z
UID:10000669-1779008100-1779026400@lvg.nu
SUMMARY:Söndagsdistans Sub 8.15
DESCRIPTION:Träning: Landsvägscykling\nPasstyp: Distans 186 km\nStartplats: Åby \nBana: https://www.strava.com/routes/3454720643993701240\nPassledare: Jakob Andersson\nHjälpryttare: Andreas Lindberg\nInfo från passledaren: \n\nSamling 08.55 med genomgång av dagens runda och hur vi cyklar för att starta 09.00. \nVi varierar mellan 2-par\, belgisk kedja och 1-led beroende på väg och förhållanden. \n\n2-par används på smalare\, kurviga\, backiga vägar\, vid sämre asfalt samt in och ut ur stan och genom samhällen för att hålla gruppen säker.\nBelgisk kedja används främst på större vägar\, med fokus på säker körning\, lugna rotationer och tydlig kommunikation.\n1-led gäller på cykelbanor och mycket smala vägar.\n\nVi avslutar med frivillig fika efter passet. \nVid träning med klubben gäller följande regler.\n• Godkänd cykelhjälm skall användas.\n• Cykeln skall ha ett fungerande bromssystem.\n• Vid cykling i mörker skall belysning finnas och gärna reflexväst.\n• Vid klubbens normala gruppcykling är inte tempostyre tillåtet.\n• Vi följer gällande trafikregler\n• Passledarens direktiv skall följas\nLadda gärna ner appen 112 \nMer information om gruppcykling och träning i Lygnens Venner: \n\nhttps://lvg.nu/cykla-i-grupp/⁠\nhttps://lvg.nu/traningspolicy/⁠\nhttps://lvg.nu/tecken-vid-gruppcykling/⁠
URL:https://lvg.nu/event/sondagsdistans-17-5-sub-8-15-2026/
LOCATION:Åby Simhall\, Idrottsvägen 9\, Mölndal\, 431 62'
CATEGORIES:Sub 8:15 2026
ATTACH;FMTTYPE=image/webp:https://lvg.nu/wp-content/uploads/2026/03/Sondagsdistans-Sub-8.15.webp
END:VEVENT
BEGIN:VEVENT
DTSTART;TZID=Europe/Stockholm:20260607T085500
DTEND;TZID=Europe/Stockholm:20260607T140000
DTSTAMP:20260419T190706
CREATED:20260328T140721Z
LAST-MODIFIED:20260401T155656Z
UID:10000672-1780822500-1780840800@lvg.nu
SUMMARY:Söndagsdistans Sub 8.15
DESCRIPTION:Träning: Landsvägscykling\nPasstyp: Distans 143 km\nStartplats: Åbybadet \nBana: https://ridewithgps.com/routes/27518504\nPassledare: Jakob Andersson\nHjälpryttare: Anders Jonefjäll\nInfo från passledaren: \n\nSamling 08.55 med genomgång av dagens runda och hur vi cyklar för att starta 09.00. \nVi varierar mellan 2-par\, belgisk kedja och 1-led beroende på väg och förhållanden. \n\n2-par används på smalare\, kurviga\, backiga vägar\, vid sämre asfalt samt in och ut ur stan och genom samhällen för att hålla gruppen säker.\nBelgisk kedja används främst på större vägar\, med fokus på säker körning\, lugna rotationer och tydlig kommunikation.\n1-led gäller på cykelbanor och mycket smala vägar.\n\nVi avslutar med frivillig fika efter passet. \nVid träning med klubben gäller följande regler.\n• Godkänd cykelhjälm skall användas.\n• Cykeln skall ha ett fungerande bromssystem.\n• Vid cykling i mörker skall belysning finnas och gärna reflexväst.\n• Vid klubbens normala gruppcykling är inte tempostyre tillåtet.\n• Vi följer gällande trafikregler\n• Passledarens direktiv skall följas\nLadda gärna ner appen 112 \nMer information om gruppcykling och träning i Lygnens Venner: \n\nhttps://lvg.nu/cykla-i-grupp/⁠\nhttps://lvg.nu/traningspolicy/⁠\nhttps://lvg.nu/tecken-vid-gruppcykling/⁠
URL:https://lvg.nu/event/sondagsdistans-7-6-sub-8-15-2026/
LOCATION:Åby Simhall\, Idrottsvägen 9\, Mölndal\, 431 62'
CATEGORIES:Sub 8:15 2026
ATTACH;FMTTYPE=image/webp:https://lvg.nu/wp-content/uploads/2026/03/Sondagsdistans-Sub-8.15.webp
END:VEVENT
END:VCALENDAR