BEGIN:VCALENDAR
VERSION:2.0
PRODID:-//Lygnens Venner - ECPv6.15.20//NONSGML v1.0//EN
CALSCALE:GREGORIAN
METHOD:PUBLISH
X-WR-CALNAME:Lygnens Venner
X-ORIGINAL-URL:https://lvg.nu
X-WR-CALDESC:Händelser för Lygnens Venner
REFRESH-INTERVAL;VALUE=DURATION:PT1H
X-Robots-Tag:noindex
X-PUBLISHED-TTL:PT1H
BEGIN:VTIMEZONE
TZID:UTC
BEGIN:STANDARD
TZOFFSETFROM:+0000
TZOFFSETTO:+0000
TZNAME:UTC
DTSTART:20190101T000000
END:STANDARD
END:VTIMEZONE
BEGIN:VEVENT
DTSTART;TZID=UTC:20210328T100000
DTEND;TZID=UTC:20210328T133000
DTSTAMP:20260420T035123
CREATED:20210224T184307Z
LAST-MODIFIED:20210224T185812Z
UID:10000061-1616925600-1616938200@lvg.nu
SUMMARY:Älvsåkerssvängen
DESCRIPTION:
URL:https://lvg.nu/event/alvsakerssvangen/
LOCATION:Åby Simhall\, Idrottsvägen 9\, Mölndal\, 431 62'
ORGANIZER;CN="Lygnens Venner":MAILTO:webmaster@lvg.nu
END:VEVENT
BEGIN:VEVENT
DTSTART;TZID=UTC:20201003T090000
DTEND;TZID=UTC:20201003T140000
DTSTAMP:20260420T035123
CREATED:20200905T181406Z
LAST-MODIFIED:20201002T091854Z
UID:10000031-1601715600-1601733600@lvg.nu
SUMMARY:Ändrad datum!! Lördag\, Store Lygnaren
DESCRIPTION:
URL:https://lvg.nu/event/store-lygnaren/
LOCATION:Åby Simhall\, Idrottsvägen 9\, Mölndal\, 431 62'
ORGANIZER;CN="Lygnens Venner":MAILTO:webmaster@lvg.nu
END:VEVENT
END:VCALENDAR