BEGIN:VCALENDAR
VERSION:2.0
PRODID:-//Lygnens Venner - ECPv6.15.20//NONSGML v1.0//EN
CALSCALE:GREGORIAN
METHOD:PUBLISH
X-WR-CALNAME:Lygnens Venner
X-ORIGINAL-URL:https://lvg.nu
X-WR-CALDESC:Händelser för Lygnens Venner
REFRESH-INTERVAL;VALUE=DURATION:PT1H
X-Robots-Tag:noindex
X-PUBLISHED-TTL:PT1H
BEGIN:VTIMEZONE
TZID:UTC
BEGIN:STANDARD
TZOFFSETFROM:+0000
TZOFFSETTO:+0000
TZNAME:UTC
DTSTART:20190101T000000
END:STANDARD
END:VTIMEZONE
BEGIN:VEVENT
DTSTART;TZID=UTC:20200610T180000
DTEND;TZID=UTC:20200610T200000
DTSTAMP:20260422T125208
CREATED:20200523T185537Z
LAST-MODIFIED:20200603T084729Z
UID:10000007-1591812000-1591819200@lvg.nu
SUMMARY:Gunnebo Märla
DESCRIPTION:
URL:https://lvg.nu/event/gunnebo-marla/
LOCATION:Preem\, Margretebergsgatan 2\, Göteborg\, Sweden
ORGANIZER;CN="Lygnens Venner":MAILTO:webmaster@lvg.nu
END:VEVENT
END:VCALENDAR