BEGIN:VCALENDAR
VERSION:2.0
PRODID:-//Lygnens Venner - ECPv6.15.20//NONSGML v1.0//EN
CALSCALE:GREGORIAN
METHOD:PUBLISH
X-WR-CALNAME:Lygnens Venner
X-ORIGINAL-URL:https://lvg.nu
X-WR-CALDESC:Händelser för Lygnens Venner
REFRESH-INTERVAL;VALUE=DURATION:PT1H
X-Robots-Tag:noindex
X-PUBLISHED-TTL:PT1H
BEGIN:VTIMEZONE
TZID:Europe/Stockholm
BEGIN:DAYLIGHT
TZOFFSETFROM:+0100
TZOFFSETTO:+0200
TZNAME:CEST
DTSTART:20210328T010000
END:DAYLIGHT
BEGIN:STANDARD
TZOFFSETFROM:+0200
TZOFFSETTO:+0100
TZNAME:CET
DTSTART:20211031T010000
END:STANDARD
BEGIN:DAYLIGHT
TZOFFSETFROM:+0100
TZOFFSETTO:+0200
TZNAME:CEST
DTSTART:20220327T010000
END:DAYLIGHT
BEGIN:STANDARD
TZOFFSETFROM:+0200
TZOFFSETTO:+0100
TZNAME:CET
DTSTART:20221030T010000
END:STANDARD
BEGIN:DAYLIGHT
TZOFFSETFROM:+0100
TZOFFSETTO:+0200
TZNAME:CEST
DTSTART:20230326T010000
END:DAYLIGHT
BEGIN:STANDARD
TZOFFSETFROM:+0200
TZOFFSETTO:+0100
TZNAME:CET
DTSTART:20231029T010000
END:STANDARD
END:VTIMEZONE
BEGIN:VTIMEZONE
TZID:UTC
BEGIN:STANDARD
TZOFFSETFROM:+0000
TZOFFSETTO:+0000
TZNAME:UTC
DTSTART:20200101T000000
END:STANDARD
END:VTIMEZONE
BEGIN:VEVENT
DTSTART;TZID=Europe/Stockholm:20220731T090000
DTEND;TZID=Europe/Stockholm:20220731T123000
DTSTAMP:20260420T053818
CREATED:20220707T175847Z
LAST-MODIFIED:20220729T062216Z
UID:10000186-1659258000-1659270600@lvg.nu
SUMMARY:Hedestunden
DESCRIPTION:Träning: Landsvägscykling\nPasstyp: Distans 70-79-93 km \nGrupp Grön\nBana: https://ridewithgps.com/routes/33521138\nPassledare:\nHjälpryttare: \nInfo från passledaren: \nGrupp Gul\nBana: https://ridewithgps.com/routes/26877293\nPassledare: Christian von Corswant\nHjälpryttare: \nInfo från passledaren: \nGrupp Röd\nBana: https://ridewithgps.com/routes/30744520\nPassledare:\nHjälpryttare: \nInfo från passledaren: \n  \nVid träning med klubben gäller följande regler.\n• Godkänd cykelhjälm skall användas.\n• Cykeln skall ha ett fungerande bromssystem.\n• Vid cykling i mörker skall belysning finnas och gärna reflexväst.\n• Vid klubbens normala gruppcykling är inte tempostyre tillåtet.\n• Vi följer gällande trafikregler\n• Passledarens direktiv skall följas\nLadda gärna ner appen 112 \nLäs gärna igenom klubbens träningspolicy oavsett om ni är ny eller gammal i klubben.
URL:https://lvg.nu/event/hedestunden-4/
LOCATION:Preem\, Margretebergsgatan 2\, Göteborg\, Sweden
ORGANIZER;CN="Lygnens Venner":MAILTO:webmaster@lvg.nu
END:VEVENT
BEGIN:VEVENT
DTSTART;TZID=Europe/Stockholm:20220724T090000
DTEND;TZID=Europe/Stockholm:20220724T120000
DTSTAMP:20260420T053818
CREATED:20220628T112757Z
LAST-MODIFIED:20220723T093144Z
UID:10000185-1658653200-1658664000@lvg.nu
SUMMARY:Inlandsbanan
DESCRIPTION:Träning: Landsvägscykling\nPasstyp: Distans 70-79-93 km \nGrupp Grön\nBana: https://ridewithgps.com/routes/33955655\nPassledare: Björn Tuvestad\nHjälpryttare: \nInfo från passledaren: \nGrupp Gul\nBana: https://ridewithgps.com/routes/26877244\nPassledare:\nHjälpryttare: \nInfo från passledaren: \nGrupp Röd\nBana: https://ridewithgps.com/routes/33938332\nPassledare:\nHjälpryttare: \nInfo från passledaren: \n  \nVid träning med klubben gäller följande regler.\n• Godkänd cykelhjälm skall användas.\n• Cykeln skall ha ett fungerande bromssystem.\n• Vid cykling i mörker skall belysning finnas och gärna reflexväst.\n• Vid klubbens normala gruppcykling är inte tempostyre tillåtet.\n• Vi följer gällande trafikregler\n• Passledarens direktiv skall följas\nLadda gärna ner appen 112 \nLäs gärna igenom klubbens träningspolicy oavsett om ni är ny eller gammal i klubben.
URL:https://lvg.nu/event/inlandsbanan-7/
LOCATION:Preem\, Margretebergsgatan 2\, Göteborg\, Sweden
ORGANIZER;CN="Lygnens Venner":MAILTO:webmaster@lvg.nu
END:VEVENT
BEGIN:VEVENT
DTSTART;TZID=Europe/Stockholm:20220710T090000
DTEND;TZID=Europe/Stockholm:20220710T133000
DTSTAMP:20260420T053818
CREATED:20220622T114129Z
LAST-MODIFIED:20220704T194045Z
UID:10000183-1657443600-1657459800@lvg.nu
SUMMARY:Gottskärs glass
DESCRIPTION:Träning: Landsvägscykling\nPasstyp: Distans 91-105 km \nGrupp Grön\nBana: https://ridewithgps.com/routes/31030580\nPassledare:\nHjälpryttare: \nInfo från passledaren: \nGrupp Gul\nBana: https://ridewithgps.com/routes/26877024\nPassledare: Peter Jonsson\nHjälpryttare: \nInfo från passledaren: \nGrupp Röd\nBana: https://ridewithgps.com/routes/31030504\nPassledare:\nHjälpryttare: \nInfo från passledaren: \n  \nVid träning med klubben gäller följande regler.\n• Godkänd cykelhjälm skall användas.\n• Cykeln skall ha ett fungerande bromssystem.\n• Vid cykling i mörker skall belysning finnas och gärna reflexväst.\n• Vid klubbens normala gruppcykling är inte tempostyre tillåtet.\n• Vi följer gällande trafikregler\n• Passledarens direktiv skall följas\nLadda gärna ner appen 112 \nLäs gärna igenom klubbens träningspolicy oavsett om ni är ny eller gammal i klubben.
URL:https://lvg.nu/event/gottskars-glass-4/
LOCATION:Preem\, Margretebergsgatan 2\, Göteborg\, Sweden
ORGANIZER;CN="Lygnens Venner":MAILTO:webmaster@lvg.nu
END:VEVENT
BEGIN:VEVENT
DTSTART;TZID=Europe/Stockholm:20220622T180000
DTEND;TZID=Europe/Stockholm:20220622T210000
DTSTAMP:20260420T053818
CREATED:20220606T201411Z
LAST-MODIFIED:20220606T201411Z
UID:10000179-1655920800-1655931600@lvg.nu
SUMMARY:Varla Plus Bonus
DESCRIPTION:Träning: Landsvägscykling –70 km\nPasstyp: Fartlek\, Tempo \nBana: https://ridewithgps.com/routes/28426110\nPassledare:\nHjälpryttare:\nInfo från passledaren: \n  \nVid träning med klubben gäller följande regler.\n• Godkänd cykelhjälm skall användas.\n• Cykeln skall ha ett fungerande bromssystem.\n• Vid cykling i mörker skall belysning finnas och gärna reflexväst.\n• Vid klubbens normala gruppcykling är inte tempostyre tillåtet.\n• Vi följer gällande trafikregler\n• Passledarens direktiv skall följas\n• Ladda gärna ner appen 112 \nLäs gärna igenom klubbens träningspolicy oavsett om ni är ny eller gammal i klubben.
URL:https://lvg.nu/event/varla-plus-bonus-2/
LOCATION:Preem\, Margretebergsgatan 2\, Göteborg\, Sweden
END:VEVENT
BEGIN:VEVENT
DTSTART;TZID=Europe/Stockholm:20220608T180000
DTEND;TZID=Europe/Stockholm:20220608T200000
DTSTAMP:20260420T053818
CREATED:20220518T112150Z
LAST-MODIFIED:20220606T203313Z
UID:10000173-1654711200-1654718400@lvg.nu
SUMMARY:Gunnebo Märla
DESCRIPTION:Träning: Landsvägscykling\nPasstyp: Fartlek\, Tempo\, 40 km \nStartplats: Preem Slottsskogen \nBana:  https://ridewithgps.com/routes/28426157\nPassledare:\nHjälpryttare: \nVid träning med klubben gäller följande regler.\n• Godkänd cykelhjälm skall användas.\n• Cykeln skall ha ett fungerande bromssystem.\n• Vid cykling i mörker skall belysning finnas och gärna reflexväst.\n• Vid klubbens normala gruppcykling är inte tempostyre tillåtet.\n• Vi följer gällande trafikregler\n• Passledarens direktiv skall följas\n• Ladda gärna ner appen 112 \nLäs gärna igenom klubbens träningspolicy oavsett om ni är ny eller gammal i klubben.
URL:https://lvg.nu/event/gunnebo-marla-5/
LOCATION:Preem\, Margretebergsgatan 2\, Göteborg\, Sweden
ORGANIZER;CN="Lygnens Venner":MAILTO:webmaster@lvg.nu
END:VEVENT
BEGIN:VEVENT
DTSTART;TZID=Europe/Stockholm:20220601T180000
DTEND;TZID=Europe/Stockholm:20220601T200000
DTSTAMP:20260420T053818
CREATED:20220518T081032Z
LAST-MODIFIED:20220518T081126Z
UID:10000171-1654106400-1654113600@lvg.nu
SUMMARY:Snipen Långe medurs
DESCRIPTION:Träning: Landsvägscykling\nPasstyp: Fartlek\, Tempo \nStartplats: Preem Slottsskogen \nBana: https://ridewithgps.com/routes/30166035\nPassledare:\nHjälpryttare: \nVid träning med klubben gäller följande regler.\n• Godkänd cykelhjälm skall användas.\n• Cykeln skall ha ett fungerande bromssystem.\n• Vid cykling i mörker skall belysning finnas och gärna reflexväst.\n• Vid klubbens normala gruppcykling är inte tempostyre tillåtet.\n• Vi följer gällande trafikregler\n• Passledarens direktiv skall följas\n• Ladda gärna ner appen 112 \nLäs gärna igenom klubbens träningspolicy oavsett om ni är ny eller gammal i klubben.
URL:https://lvg.nu/event/snipen-lange-medurs/
LOCATION:Preem\, Margretebergsgatan 2\, Göteborg\, Sweden
ORGANIZER;CN="Lygnens Venner":MAILTO:webmaster@lvg.nu
END:VEVENT
BEGIN:VEVENT
DTSTART;TZID=Europe/Stockholm:20220518T180000
DTEND;TZID=Europe/Stockholm:20220518T200000
DTSTAMP:20260420T053818
CREATED:20220503T072513Z
LAST-MODIFIED:20220511T093203Z
UID:10000165-1652896800-1652904000@lvg.nu
SUMMARY:Mölnlycke halvback
DESCRIPTION:Träning: Landsvägscykling\nPasstyp: Intervaller \nStartplats kl. 18:00: Preem Slottsskogen \nBana: https://ridewithgps.com/routes/27524458\nPassledare: Linus Hermansson\nHjälpryttare: \nInformation från Passledaren: \nVid träning med klubben gäller följande regler.\n• Godkänd cykelhjälm skall användas.\n• Cykeln skall ha ett fungerande bromssystem.\n• Vid cykling i mörker skall belysning finnas och gärna reflexväst.\n• Vid klubbens normala gruppcykling är inte tempostyre tillåtet.\n• Vi följer gällande trafikregler\n• Passledarens direktiv skall följas\n• Ladda gärna ner appen 112 \nLäs gärna igenom klubbens träningspolicy oavsett om ni är ny eller gammal i klubben.
URL:https://lvg.nu/event/molnlycke-halvback-2/
LOCATION:Preem\, Margretebergsgatan 2\, Göteborg\, Sweden
ORGANIZER;CN="Lygnens Venner":MAILTO:webmaster@lvg.nu
END:VEVENT
BEGIN:VEVENT
DTSTART;TZID=UTC:20220511T180000
DTEND;TZID=UTC:20220511T200000
DTSTAMP:20260420T053818
CREATED:20220502T113206Z
LAST-MODIFIED:20220502T114655Z
UID:10000162-1652292000-1652299200@lvg.nu
SUMMARY:Annebergskrumeluren
DESCRIPTION:Träning: Landsvägscykling\nPasstyp: Fartlek\, Tempo \nStartplats kl. 18:00: Slottsskogen\nKarta till startplatsen hittar du https://lvg.nu/events/ \nBana: https://ridewithgps.com/routes/28442477\nPassledare: Linus Hermansson\nHjälpryttare: \nInformation från Passledaren:\n\nVid träning med klubben gäller följande regler.\n• Godkänd cykelhjälm skall användas.\n• Cykeln skall ha ett fungerande bromssystem.\n• Vid cykling i mörker skall belysning finnas och gärna reflexväst.\n• Vid klubbens normala gruppcykling är inte tempostyre tillåtet.\n• Vi följer gällande trafikregler\n• Passledarens direktiv skall följas\n• Ladda gärna ner appen 112  \nLäs gärna igenom klubbens träningspolicy oavsett om ni är ny eller gammal i klubben.
URL:https://lvg.nu/event/annebergskrumeluren-4/
LOCATION:Preem\, Margretebergsgatan 2\, Göteborg\, Sweden
ORGANIZER;CN="Lygnens Venner":MAILTO:webmaster@lvg.nu
END:VEVENT
BEGIN:VEVENT
DTSTART;TZID=Europe/Stockholm:20220504T180000
DTEND;TZID=Europe/Stockholm:20220504T180000
DTSTAMP:20260420T053818
CREATED:20220406T192104Z
LAST-MODIFIED:20220406T192419Z
UID:10000157-1651687200-1651687200@lvg.nu
SUMMARY:Varla Plus Bonus
DESCRIPTION:Träning: Landsvägscykling –70 km\nPasstyp: Fartlek\, Tempo \nBana: https://ridewithgps.com/routes/28426110\nPassledare:\nHjälpryttare:\nInfo från passledaren: \n  \nVid träning med klubben gäller följande regler.\n• Godkänd cykelhjälm skall användas.\n• Cykeln skall ha ett fungerande bromssystem.\n• Vid cykling i mörker skall belysning finnas och gärna reflexväst.\n• Vid klubbens normala gruppcykling är inte tempostyre tillåtet.\n• Vi följer gällande trafikregler\n• Passledarens direktiv skall följas\n• Ladda gärna ner appen 112 \nLäs gärna igenom klubbens träningspolicy oavsett om ni är ny eller gammal i klubben.
URL:https://lvg.nu/event/varla-plus-bonus/
LOCATION:Preem\, Margretebergsgatan 2\, Göteborg\, Sweden
CATEGORIES:Onsdagsrundor
END:VEVENT
BEGIN:VEVENT
DTSTART;TZID=Europe/Stockholm:20220420T180000
DTEND;TZID=Europe/Stockholm:20220420T200000
DTSTAMP:20260420T053818
CREATED:20220129T193035Z
LAST-MODIFIED:20220417T191440Z
UID:10000145-1650477600-1650484800@lvg.nu
SUMMARY:Svättestupan
DESCRIPTION:Passtyp: Back-intervaller\nStartplats: Preem Slottskogen\nDistans: 35 km. Längd: 2½ tim intervallsträckor. Rundslinga på Ramberget \nPassansvarig: Peter Jonsson\nBana: https://ridewithgps.com/routes/35552883 \n  \nVid träning med klubben gäller följande regler.\n• Godkänd cykelhjälm skall användas.\n• Cykeln skall ha ett fungerande bromssystem.\n• Vid cykling i mörker skall belysning finnas och gärna reflexväst.\n• Vid klubbens normala gruppcykling är inte tempostyre tillåtet.\n• Vi följer gällande trafikregler\n• Passledarens direktiv skall följas\n• Ladda gärna ner appen 112 \nLäs gärna igenom klubbens träningspolicy oavsett om ni är ny eller gammal i klubben.
URL:https://lvg.nu/event/svattestupan-2/
LOCATION:Preem\, Margretebergsgatan 2\, Göteborg\, Sweden
CATEGORIES:Onsdagsrundor
ORGANIZER;CN="Lygnens Venner":MAILTO:webmaster@lvg.nu
END:VEVENT
BEGIN:VEVENT
DTSTART;TZID=Europe/Stockholm:20220406T180000
DTEND;TZID=Europe/Stockholm:20220406T200000
DTSTAMP:20260420T053818
CREATED:20220129T160624Z
LAST-MODIFIED:20220403T122356Z
UID:10000141-1649268000-1649275200@lvg.nu
SUMMARY:Sisjön
DESCRIPTION:Passtyp: Intervaller/stryka\nStartplats: Preem Slottskogen\nDistans: 38 km\, rundkörning i slinga\, individuell fart \nPassansvarig: Peter Jonsson\nBana: Välkomna till lite backträning på onsdag vi träffas som vanligt på Preem i Slottskogen KL 18.00 Vi kommer att prova en delvis ny backbana som går upp från Gamla Särövägen.  \n  \n https://ridewithgps.com/routes/35352031\n \n  \nVid träning med klubben gäller följande regler.\n• Godkänd cykelhjälm skall användas.\n• Cykeln skall ha ett fungerande bromssystem.\n• Vid cykling i mörker skall belysning finnas och gärna reflexväst.\n• Vid klubbens normala gruppcykling är inte tempostyre tillåtet.\n• Vi följer gällande trafikregler\n• Passledarens direktiv skall följas\n• Ladda gärna ner appen 112 \nLäs gärna igenom klubbens träningspolicy oavsett om ni är ny eller gammal i klubben.
URL:https://lvg.nu/event/sisjon-2/
LOCATION:Preem\, Margretebergsgatan 2\, Göteborg\, Sweden
CATEGORIES:Onsdagsrundor
ORGANIZER;CN="Lygnens Venner":MAILTO:webmaster@lvg.nu
END:VEVENT
BEGIN:VEVENT
DTSTART;TZID=Europe/Stockholm:20220330T180000
DTEND;TZID=Europe/Stockholm:20220330T200000
DTSTAMP:20260420T053818
CREATED:20220116T121627Z
LAST-MODIFIED:20220322T101934Z
UID:10000134-1648663200-1648670400@lvg.nu
SUMMARY:Snipen Store
DESCRIPTION:Passtyp: Intervaller\nStartplats: Preem Slottskogen\nDistans: 46 km \nPassansvarig:\nBana: https://ridewithgps.com/routes/35348534 \n  \nVid träning med klubben gäller följande regler.\n• Godkänd cykelhjälm skall användas.\n• Cykeln skall ha ett fungerande bromssystem.\n• Vid cykling i mörker skall belysning finnas och gärna reflexväst.\n• Vid klubbens normala gruppcykling är inte tempostyre tillåtet.\n• Vi följer gällande trafikregler\n• Passledarens direktiv skall följas\n• Ladda gärna ner appen 112 \nLäs gärna igenom klubbens träningspolicy oavsett om ni är ny eller gammal i klubben.
URL:https://lvg.nu/event/snipen-store-2/
LOCATION:Preem\, Margretebergsgatan 2\, Göteborg\, Sweden
CATEGORIES:Onsdagsrundor
ORGANIZER;CN="Lygnens Venner":MAILTO:webmaster@lvg.nu
END:VEVENT
BEGIN:VEVENT
DTSTART;TZID=UTC:20220102T100000
DTEND;TZID=UTC:20220102T133000
DTSTAMP:20260420T053818
CREATED:20211127T201203Z
LAST-MODIFIED:20211127T201203Z
UID:10000127-1641117600-1641130200@lvg.nu
SUMMARY:Hälsningar från Hälls näs
DESCRIPTION:
URL:https://lvg.nu/event/halsningar-fran-halls-nas/
LOCATION:Preem\, Margretebergsgatan 2\, Göteborg\, Sweden
ORGANIZER;CN="Lygnens Venner":MAILTO:webmaster@lvg.nu
END:VEVENT
BEGIN:VEVENT
DTSTART;TZID=UTC:20211219T100000
DTEND;TZID=UTC:20211219T130000
DTSTAMP:20260420T053818
CREATED:20211108T185540Z
LAST-MODIFIED:20211108T185540Z
UID:10000126-1639908000-1639918800@lvg.nu
SUMMARY:Supercrossen
DESCRIPTION:
URL:https://lvg.nu/event/supercrossen-2/
LOCATION:Preem\, Margretebergsgatan 2\, Göteborg\, Sweden
ORGANIZER;CN="Lygnens Venner":MAILTO:webmaster@lvg.nu
END:VEVENT
BEGIN:VEVENT
DTSTART;TZID=UTC:20211106T090000
DTEND;TZID=UTC:20211106T120000
DTSTAMP:20260420T053818
CREATED:20210929T175353Z
LAST-MODIFIED:20210929T175353Z
UID:10000115-1636189200-1636200000@lvg.nu
SUMMARY:KM i Cykelcross
DESCRIPTION:
URL:https://lvg.nu/event/km-i-cykelcross/
LOCATION:Preem\, Margretebergsgatan 2\, Göteborg\, Sweden
ORGANIZER;CN="Lygnens Venner":MAILTO:webmaster@lvg.nu
END:VEVENT
BEGIN:VEVENT
DTSTART;TZID=UTC:20211013T173000
DTEND;TZID=UTC:20211013T193000
DTSTAMP:20260420T053818
CREATED:20211003T164742Z
LAST-MODIFIED:20211003T164742Z
UID:10000116-1634146200-1634153400@lvg.nu
SUMMARY:Gunnebo Märla
DESCRIPTION:
URL:https://lvg.nu/event/gunnebo-marla-4/
LOCATION:Preem\, Margretebergsgatan 2\, Göteborg\, Sweden
ORGANIZER;CN="Lygnens Venner":MAILTO:webmaster@lvg.nu
END:VEVENT
BEGIN:VEVENT
DTSTART;TZID=UTC:20210929T173000
DTEND;TZID=UTC:20210929T193000
DTSTAMP:20260420T053818
CREATED:20210913T054830Z
LAST-MODIFIED:20210913T054830Z
UID:10000111-1632936600-1632943800@lvg.nu
SUMMARY:Särödressinen
DESCRIPTION:
URL:https://lvg.nu/event/sarodressinen-2/
LOCATION:Preem\, Margretebergsgatan 2\, Göteborg\, Sweden
ORGANIZER;CN="Lygnens Venner":MAILTO:webmaster@lvg.nu
END:VEVENT
BEGIN:VEVENT
DTSTART;TZID=UTC:20210922T180000
DTEND;TZID=UTC:20210922T200000
DTSTAMP:20260420T053818
CREATED:20210911T135514Z
LAST-MODIFIED:20210911T135514Z
UID:10000110-1632333600-1632340800@lvg.nu
SUMMARY:Snipen Sturske
DESCRIPTION:
URL:https://lvg.nu/event/snipen-sturske-2/
LOCATION:Preem\, Margretebergsgatan 2\, Göteborg\, Sweden
ORGANIZER;CN="Lygnens Venner":MAILTO:webmaster@lvg.nu
END:VEVENT
BEGIN:VEVENT
DTSTART;TZID=UTC:20210915T180000
DTEND;TZID=UTC:20210915T200000
DTSTAMP:20260420T053818
CREATED:20210830T051906Z
LAST-MODIFIED:20210830T051906Z
UID:10000107-1631728800-1631736000@lvg.nu
SUMMARY:Brudaremossen
DESCRIPTION:
URL:https://lvg.nu/event/brudaremossen-2/
LOCATION:Preem\, Margretebergsgatan 2\, Göteborg\, Sweden
ORGANIZER;CN="Lygnens Venner":MAILTO:webmaster@lvg.nu
END:VEVENT
BEGIN:VEVENT
DTSTART;TZID=UTC:20210905T090000
DTEND;TZID=UTC:20210905T130000
DTSTAMP:20260420T053818
CREATED:20210822T191714Z
LAST-MODIFIED:20210822T191714Z
UID:10000105-1630832400-1630846800@lvg.nu
SUMMARY:Fjärås Bräcka
DESCRIPTION:
URL:https://lvg.nu/event/fjaras-bracka-3/
LOCATION:Preem\, Margretebergsgatan 2\, Göteborg\, Sweden
ORGANIZER;CN="Lygnens Venner":MAILTO:webmaster@lvg.nu
END:VEVENT
BEGIN:VEVENT
DTSTART;TZID=UTC:20210901T180000
DTEND;TZID=UTC:20210901T200000
DTSTAMP:20260420T053818
CREATED:20210822T190535Z
LAST-MODIFIED:20210822T190535Z
UID:10000104-1630519200-1630526400@lvg.nu
SUMMARY:Torslandasvängen
DESCRIPTION:
URL:https://lvg.nu/event/torslandasvangen-2/
LOCATION:Preem\, Margretebergsgatan 2\, Göteborg\, Sweden
ORGANIZER;CN="Lygnens Venner":MAILTO:webmaster@lvg.nu
END:VEVENT
BEGIN:VEVENT
DTSTART;TZID=UTC:20210829T090000
DTEND;TZID=UTC:20210829T130000
DTSTAMP:20260420T053818
CREATED:20210815T071346Z
LAST-MODIFIED:20210815T071346Z
UID:10000103-1630227600-1630242000@lvg.nu
SUMMARY:Inlandsbanan
DESCRIPTION:
URL:https://lvg.nu/event/inlandsbanan-5/
LOCATION:Preem\, Margretebergsgatan 2\, Göteborg\, Sweden
ORGANIZER;CN="Lygnens Venner":MAILTO:webmaster@lvg.nu
END:VEVENT
BEGIN:VEVENT
DTSTART;TZID=UTC:20210825T180000
DTEND;TZID=UTC:20210825T200000
DTSTAMP:20260420T053818
CREATED:20210815T071043Z
LAST-MODIFIED:20210815T071043Z
UID:10000102-1629914400-1629921600@lvg.nu
SUMMARY:Varla Plus
DESCRIPTION:
URL:https://lvg.nu/event/varla-plus-5/
LOCATION:Preem\, Margretebergsgatan 2\, Göteborg\, Sweden
ORGANIZER;CN="Lygnens Venner":MAILTO:webmaster@lvg.nu
END:VEVENT
BEGIN:VEVENT
DTSTART;TZID=UTC:20210822T090000
DTEND;TZID=UTC:20210822T130000
DTSTAMP:20260420T053818
CREATED:20210725T190909Z
LAST-MODIFIED:20210810T180406Z
UID:10000099-1629622800-1629637200@lvg.nu
SUMMARY:Lygnens PBP
DESCRIPTION:
URL:https://lvg.nu/event/rydalsrundan/
LOCATION:Preem\, Margretebergsgatan 2\, Göteborg\, Sweden
ORGANIZER;CN="Lygnens Venner":MAILTO:webmaster@lvg.nu
END:VEVENT
BEGIN:VEVENT
DTSTART;TZID=UTC:20210818T180000
DTEND;TZID=UTC:20210818T200000
DTSTAMP:20260420T053818
CREATED:20210811T215418Z
LAST-MODIFIED:20210811T215418Z
UID:10000100-1629309600-1629316800@lvg.nu
SUMMARY:Mölnlycke Quarterback
DESCRIPTION:
URL:https://lvg.nu/event/molnlycke-quarterback-2/
LOCATION:Preem\, Margretebergsgatan 2\, Göteborg\, Sweden
ORGANIZER;CN="Lygnens Venner":MAILTO:webmaster@lvg.nu
END:VEVENT
BEGIN:VEVENT
DTSTART;TZID=UTC:20210811T180000
DTEND;TZID=UTC:20210811T200000
DTSTAMP:20260420T053818
CREATED:20210720T123754Z
LAST-MODIFIED:20210720T123754Z
UID:10000097-1628704800-1628712000@lvg.nu
SUMMARY:Kallebackarna
DESCRIPTION:
URL:https://lvg.nu/event/kallebackarna-2/
LOCATION:Preem\, Margretebergsgatan 2\, Göteborg\, Sweden
ORGANIZER;CN="Lygnens Venner":MAILTO:webmaster@lvg.nu
END:VEVENT
BEGIN:VEVENT
DTSTART;TZID=UTC:20210804T180000
DTEND;TZID=UTC:20210804T200000
DTSTAMP:20260420T053818
CREATED:20210711T151250Z
LAST-MODIFIED:20210711T151250Z
UID:10000095-1628100000-1628107200@lvg.nu
SUMMARY:Annebergskrumeluren
DESCRIPTION:
URL:https://lvg.nu/event/annebergskrumeluren-3/
LOCATION:Preem\, Margretebergsgatan 2\, Göteborg\, Sweden
ORGANIZER;CN="Lygnens Venner":MAILTO:webmaster@lvg.nu
END:VEVENT
BEGIN:VEVENT
DTSTART;TZID=UTC:20210801T090000
DTEND;TZID=UTC:20210801T130000
DTSTAMP:20260420T053818
CREATED:20210711T150647Z
LAST-MODIFIED:20210731T214224Z
UID:10000094-1627808400-1627822800@lvg.nu
SUMMARY:Hedestunden
DESCRIPTION:
URL:https://lvg.nu/event/hedestunden-2/
LOCATION:Preem\, Margretebergsgatan 2\, Göteborg\, Sweden
ORGANIZER;CN="Lygnens Venner":MAILTO:webmaster@lvg.nu
END:VEVENT
BEGIN:VEVENT
DTSTART;TZID=UTC:20210725T090000
DTEND;TZID=UTC:20210725T130000
DTSTAMP:20260420T053818
CREATED:20210628T075616Z
LAST-MODIFIED:20210628T075616Z
UID:10000093-1627203600-1627218000@lvg.nu
SUMMARY:Inlandsbanan
DESCRIPTION:
URL:https://lvg.nu/event/inlandsbanan-4/
LOCATION:Preem\, Margretebergsgatan 2\, Göteborg\, Sweden
ORGANIZER;CN="Lygnens Venner":MAILTO:webmaster@lvg.nu
END:VEVENT
BEGIN:VEVENT
DTSTART;TZID=UTC:20210711T090000
DTEND;TZID=UTC:20210711T130000
DTSTAMP:20260420T053818
CREATED:20210611T063856Z
LAST-MODIFIED:20210611T063856Z
UID:10000091-1625994000-1626008400@lvg.nu
SUMMARY:Gottskärs Glass
DESCRIPTION:
URL:https://lvg.nu/event/gottskars-glass-3/
LOCATION:Preem\, Margretebergsgatan 2\, Göteborg\, Sweden
ORGANIZER;CN="Lygnens Venner":MAILTO:webmaster@lvg.nu
END:VEVENT
END:VCALENDAR