BEGIN:VCALENDAR
VERSION:2.0
PRODID:-//Lygnens Venner - ECPv6.15.20//NONSGML v1.0//EN
CALSCALE:GREGORIAN
METHOD:PUBLISH
X-WR-CALNAME:Lygnens Venner
X-ORIGINAL-URL:https://lvg.nu
X-WR-CALDESC:Händelser för Lygnens Venner
REFRESH-INTERVAL;VALUE=DURATION:PT1H
X-Robots-Tag:noindex
X-PUBLISHED-TTL:PT1H
BEGIN:VTIMEZONE
TZID:UTC
BEGIN:STANDARD
TZOFFSETFROM:+0000
TZOFFSETTO:+0000
TZNAME:UTC
DTSTART:20190101T000000
END:STANDARD
END:VTIMEZONE
BEGIN:VTIMEZONE
TZID:UTC
BEGIN:STANDARD
TZOFFSETFROM:+0000
TZOFFSETTO:+0000
TZNAME:UTC
DTSTART:20190101T000000
END:STANDARD
END:VTIMEZONE
BEGIN:VEVENT
DTSTART;TZID=UTC:20210627T090000
DTEND;TZID=UTC:20210627T123000
DTSTAMP:20260420T094641
CREATED:20210607T063631Z
LAST-MODIFIED:20210607T063631Z
UID:10000089-1624784400-1624797000@lvg.nu
SUMMARY:Inlandsbanan
DESCRIPTION:
URL:https://lvg.nu/event/inlandsbanan-3/
LOCATION:Preem\, Margretebergsgatan 2\, Göteborg\, Sweden
ORGANIZER;CN="Lygnens Venner":MAILTO:webmaster@lvg.nu
END:VEVENT
BEGIN:VEVENT
DTSTART;TZID=UTC:20210623T180000
DTEND;TZID=UTC:20210623T200000
DTSTAMP:20260420T094641
CREATED:20210607T063201Z
LAST-MODIFIED:20210607T063201Z
UID:10000088-1624471200-1624478400@lvg.nu
SUMMARY:Varla Plus
DESCRIPTION:
URL:https://lvg.nu/event/varla-plus-4/
LOCATION:Preem\, Margretebergsgatan 2\, Göteborg\, Sweden
ORGANIZER;CN="Lygnens Venner":MAILTO:webmaster@lvg.nu
END:VEVENT
BEGIN:VEVENT
DTSTART;TZID=UTC:20210609T180000
DTEND;TZID=UTC:20210609T200000
DTSTAMP:20260420T094641
CREATED:20210522T212535Z
LAST-MODIFIED:20210522T212535Z
UID:10000083-1623261600-1623268800@lvg.nu
SUMMARY:Gunnebo Märla
DESCRIPTION:
URL:https://lvg.nu/event/gunnebo-marla-3/
LOCATION:Preem\, Margretebergsgatan 2\, Göteborg\, Sweden
ORGANIZER;CN="Lygnens Venner":MAILTO:webmaster@lvg.nu
END:VEVENT
BEGIN:VEVENT
DTSTART;TZID=UTC:20210602T180000
DTEND;TZID=UTC:20210602T200000
DTSTAMP:20260420T094641
CREATED:20210514T074429Z
LAST-MODIFIED:20210514T074429Z
UID:10000081-1622656800-1622664000@lvg.nu
SUMMARY:Snipen Långe medurs
DESCRIPTION:
URL:https://lvg.nu/event/snipen-lange-medurs-2/
LOCATION:Preem\, Margretebergsgatan 2\, Göteborg\, Sweden
ORGANIZER;CN="Lygnens Venner":MAILTO:webmaster@lvg.nu
END:VEVENT
BEGIN:VEVENT
DTSTART;TZID=UTC:20210519T180000
DTEND;TZID=UTC:20210519T200000
DTSTAMP:20260420T094641
CREATED:20210504T074817Z
LAST-MODIFIED:20210504T074817Z
UID:10000077-1621447200-1621454400@lvg.nu
SUMMARY:Mölnlycke halvback
DESCRIPTION:
URL:https://lvg.nu/event/molnlycke-halvback/
LOCATION:Preem\, Margretebergsgatan 2\, Göteborg\, Sweden
ORGANIZER;CN="Lygnens Venner":MAILTO:webmaster@lvg.nu
END:VEVENT
BEGIN:VEVENT
DTSTART;TZID=UTC:20210512T180000
DTEND;TZID=UTC:20210512T200000
DTSTAMP:20260420T094641
CREATED:20210421T181409Z
LAST-MODIFIED:20210421T181409Z
UID:10000074-1620842400-1620849600@lvg.nu
SUMMARY:Annebergskrumeluren
DESCRIPTION:
URL:https://lvg.nu/event/annebergskrumeluren-2/
LOCATION:Preem\, Margretebergsgatan 2\, Göteborg\, Sweden
ORGANIZER;CN="Lygnens Venner":MAILTO:webmaster@lvg.nu
END:VEVENT
BEGIN:VEVENT
DTSTART;TZID=UTC:20210509T090000
DTEND;TZID=UTC:20210509T133000
DTSTAMP:20260420T094641
CREATED:20210421T180946Z
LAST-MODIFIED:20210421T180946Z
UID:10000073-1620550800-1620567000@lvg.nu
SUMMARY:Lygnens PBP
DESCRIPTION:
URL:https://lvg.nu/event/lygnens-pbp-2/
LOCATION:Preem\, Margretebergsgatan 2\, Göteborg\, Sweden
ORGANIZER;CN="Lygnens Venner":MAILTO:webmaster@lvg.nu
END:VEVENT
BEGIN:VEVENT
DTSTART;TZID=UTC:20210505T180000
DTEND;TZID=UTC:20210505T200000
DTSTAMP:20260420T094641
CREATED:20210419T094140Z
LAST-MODIFIED:20210419T094140Z
UID:10000072-1620237600-1620244800@lvg.nu
SUMMARY:Varla Plus
DESCRIPTION:
URL:https://lvg.nu/event/varla-plus-3/
LOCATION:Preem\, Margretebergsgatan 2\, Göteborg\, Sweden
ORGANIZER;CN="Lygnens Venner":MAILTO:webmaster@lvg.nu
END:VEVENT
BEGIN:VEVENT
DTSTART;TZID=UTC:20210428T180000
DTEND;TZID=UTC:20210428T200000
DTSTAMP:20260420T094641
CREATED:20210411T175550Z
LAST-MODIFIED:20210411T175550Z
UID:10000070-1619632800-1619640000@lvg.nu
SUMMARY:Brudaremossen
DESCRIPTION:
URL:https://lvg.nu/event/brudaremossen/
LOCATION:Preem\, Margretebergsgatan 2\, Göteborg\, Sweden
ORGANIZER;CN="Lygnens Venner":MAILTO:webmaster@lvg.nu
END:VEVENT
BEGIN:VEVENT
DTSTART;TZID=UTC:20210421T180000
DTEND;TZID=UTC:20210421T200000
DTSTAMP:20260420T094641
CREATED:20210331T064620Z
LAST-MODIFIED:20210331T064620Z
UID:10000068-1619028000-1619035200@lvg.nu
SUMMARY:Svättestupan
DESCRIPTION:
URL:https://lvg.nu/event/svattestupan/
LOCATION:Preem\, Margretebergsgatan 2\, Göteborg\, Sweden
ORGANIZER;CN="Lygnens Venner":MAILTO:webmaster@lvg.nu
END:VEVENT
BEGIN:VEVENT
DTSTART;TZID=UTC:20210407T180000
DTEND;TZID=UTC:20210407T200000
DTSTAMP:20260420T094641
CREATED:20210308T170700Z
LAST-MODIFIED:20210308T170818Z
UID:10000064-1617818400-1617825600@lvg.nu
SUMMARY:Sisjön
DESCRIPTION:
URL:https://lvg.nu/event/sisjon/
LOCATION:Preem\, Margretebergsgatan 2\, Göteborg\, Sweden
ORGANIZER;CN="Lygnens Venner":MAILTO:webmaster@lvg.nu
END:VEVENT
BEGIN:VEVENT
DTSTART;TZID=UTC:20210404T090000
DTEND;TZID=UTC:20210404T133000
DTSTAMP:20260420T094641
CREATED:20210308T073306Z
LAST-MODIFIED:20210327T121032Z
UID:10000063-1617526800-1617543000@lvg.nu
SUMMARY:Fjärås Bräcka
DESCRIPTION:
URL:https://lvg.nu/event/fjaras-bracka-2/
LOCATION:Preem\, Margretebergsgatan 2\, Göteborg\, Sweden
ORGANIZER;CN="Lygnens Venner":MAILTO:webmaster@lvg.nu
END:VEVENT
BEGIN:VEVENT
DTSTART;TZID=UTC:20210331T180000
DTEND;TZID=UTC:20210331T200000
DTSTAMP:20260420T094641
CREATED:20210308T071929Z
LAST-MODIFIED:20210308T071929Z
UID:10000062-1617213600-1617220800@lvg.nu
SUMMARY:Snipen Store
DESCRIPTION:
URL:https://lvg.nu/event/snipen-store/
LOCATION:Preem\, Margretebergsgatan 2\, Göteborg\, Sweden
ORGANIZER;CN="Lygnens Venner":MAILTO:webmaster@lvg.nu
END:VEVENT
BEGIN:VEVENT
DTSTART;TZID=UTC:20210131T100000
DTEND;TZID=UTC:20210131T133000
DTSTAMP:20260420T094641
CREATED:20201221T115326Z
LAST-MODIFIED:20210108T081947Z
UID:10000053-1612087200-1612099800@lvg.nu
SUMMARY:Hälsningar från Häll snäs
DESCRIPTION:
URL:https://lvg.nu/event/supercrossen/
LOCATION:Preem\, Margretebergsgatan 2\, Göteborg\, Sweden
ORGANIZER;CN="Lygnens Venner":MAILTO:webmaster@lvg.nu
END:VEVENT
BEGIN:VEVENT
DTSTART;TZID=UTC:20201014T173000
DTEND;TZID=UTC:20201014T193000
DTSTAMP:20260420T094641
CREATED:20200920T164359Z
LAST-MODIFIED:20201010T121951Z
UID:10000034-1602696600-1602703800@lvg.nu
SUMMARY:Gunnebo Märla
DESCRIPTION:
URL:https://lvg.nu/event/gunnebo-marla-2/
LOCATION:Preem\, Margretebergsgatan 2\, Göteborg\, Sweden
ORGANIZER;CN="Lygnens Venner":MAILTO:webmaster@lvg.nu
END:VEVENT
BEGIN:VEVENT
DTSTART;TZID=UTC:20200930T180000
DTEND;TZID=UTC:20200930T200000
DTSTAMP:20260420T094641
CREATED:20200905T180842Z
LAST-MODIFIED:20200905T180842Z
UID:10000030-1601488800-1601496000@lvg.nu
SUMMARY:Särödressinen
DESCRIPTION:
URL:https://lvg.nu/event/sarodressinen/
LOCATION:Preem\, Margretebergsgatan 2\, Göteborg\, Sweden
ORGANIZER;CN="Lygnens Venner":MAILTO:webmaster@lvg.nu
END:VEVENT
BEGIN:VEVENT
DTSTART;TZID=UTC:20200923T180000
DTEND;TZID=UTC:20200923T200000
DTSTAMP:20260420T094641
CREATED:20200820T135407Z
LAST-MODIFIED:20200820T135407Z
UID:10000028-1600884000-1600891200@lvg.nu
SUMMARY:Snipen Sturske
DESCRIPTION:
URL:https://lvg.nu/event/snipen-sturske/
LOCATION:Preem\, Margretebergsgatan 2\, Göteborg\, Sweden
ORGANIZER;CN="Lygnens Venner":MAILTO:webmaster@lvg.nu
END:VEVENT
BEGIN:VEVENT
DTSTART;TZID=UTC:20200906T090000
DTEND;TZID=UTC:20200906T130000
DTSTAMP:20260420T094641
CREATED:20200726T181345Z
LAST-MODIFIED:20200810T115854Z
UID:10000020-1599382800-1599397200@lvg.nu
SUMMARY:Gottskärs Glass
DESCRIPTION:
URL:https://lvg.nu/event/gottskars-glass-2/
LOCATION:Preem\, Margretebergsgatan 2\, Göteborg\, Sweden
ORGANIZER;CN="Lygnens Venner":MAILTO:webmaster@lvg.nu
END:VEVENT
BEGIN:VEVENT
DTSTART;TZID=UTC:20200902T180000
DTEND;TZID=UTC:20200902T200000
DTSTAMP:20260420T094641
CREATED:20200726T181704Z
LAST-MODIFIED:20200810T115835Z
UID:10000021-1599069600-1599076800@lvg.nu
SUMMARY:Torslandasvängen
DESCRIPTION:
URL:https://lvg.nu/event/torslandasvangen/
LOCATION:Preem\, Margretebergsgatan 2\, Göteborg\, Sweden
ORGANIZER;CN="Lygnens Venner":MAILTO:webmaster@lvg.nu
END:VEVENT
BEGIN:VEVENT
DTSTART;TZID=UTC:20200830T090000
DTEND;TZID=UTC:20200830T130000
DTSTAMP:20260420T094641
CREATED:20200726T182343Z
LAST-MODIFIED:20200726T182343Z
UID:10000022-1598778000-1598792400@lvg.nu
SUMMARY:Inlandsbanan
DESCRIPTION:
URL:https://lvg.nu/event/inlandsbanan-2/
LOCATION:Preem\, Margretebergsgatan 2\, Göteborg\, Sweden
ORGANIZER;CN="Lygnens Venner":MAILTO:webmaster@lvg.nu
END:VEVENT
BEGIN:VEVENT
DTSTART;TZID=UTC:20200826T180000
DTEND;TZID=UTC:20200826T200000
DTSTAMP:20260420T094641
CREATED:20200726T182625Z
LAST-MODIFIED:20200726T182625Z
UID:10000023-1598464800-1598472000@lvg.nu
SUMMARY:Varla Plus
DESCRIPTION:
URL:https://lvg.nu/event/varla-plus-2/
LOCATION:Preem\, Margretebergsgatan 2\, Göteborg\, Sweden
ORGANIZER;CN="Lygnens Venner":MAILTO:webmaster@lvg.nu
END:VEVENT
BEGIN:VEVENT
DTSTART;TZID=UTC:20200822T090000
DTEND;TZID=UTC:20200822T130000
DTSTAMP:20260420T094641
CREATED:20200726T182917Z
LAST-MODIFIED:20200821T144207Z
UID:10000024-1598086800-1598101200@lvg.nu
SUMMARY:Fjärås Bräcka Obs! Lördag
DESCRIPTION:
URL:https://lvg.nu/event/fjaras-bracka/
LOCATION:Preem\, Margretebergsgatan 2\, Göteborg\, Sweden
ORGANIZER;CN="Lygnens Venner":MAILTO:webmaster@lvg.nu
END:VEVENT
BEGIN:VEVENT
DTSTART;TZID=UTC:20200819T180000
DTEND;TZID=UTC:20200819T200000
DTSTAMP:20260420T094641
CREATED:20200629T195728Z
LAST-MODIFIED:20200705T090906Z
UID:10000013-1597860000-1597867200@lvg.nu
SUMMARY:Mölnlycke QuarterBack
DESCRIPTION:
URL:https://lvg.nu/event/molnlycke-quarterback/
LOCATION:Preem\, Margretebergsgatan 2\, Göteborg\, Sweden
ORGANIZER;CN="Lygnens Venner":MAILTO:webmaster@lvg.nu
END:VEVENT
BEGIN:VEVENT
DTSTART;TZID=UTC:20200812T180000
DTEND;TZID=UTC:20200812T200000
DTSTAMP:20260420T094641
CREATED:20200629T200250Z
LAST-MODIFIED:20200630T115655Z
UID:10000015-1597255200-1597262400@lvg.nu
SUMMARY:Kallebackarna
DESCRIPTION:
URL:https://lvg.nu/event/kallebackarna/
LOCATION:Preem\, Margretebergsgatan 2\, Göteborg\, Sweden
ORGANIZER;CN="Lygnens Venner":MAILTO:webmaster@lvg.nu
END:VEVENT
BEGIN:VEVENT
DTSTART;TZID=UTC:20200805T180000
DTEND;TZID=UTC:20200805T200000
DTSTAMP:20260420T094641
CREATED:20200629T201020Z
LAST-MODIFIED:20200630T115447Z
UID:10000017-1596650400-1596657600@lvg.nu
SUMMARY:Annebergskrumeluren
DESCRIPTION:
URL:https://lvg.nu/event/annebergskrumeluren/
LOCATION:Preem\, Margretebergsgatan 2\, Göteborg\, Sweden
ORGANIZER;CN="Lygnens Venner":MAILTO:webmaster@lvg.nu
END:VEVENT
BEGIN:VEVENT
DTSTART;TZID=UTC:20200802T090000
DTEND;TZID=UTC:20200802T130000
DTSTAMP:20260420T094641
CREATED:20200629T201144Z
LAST-MODIFIED:20200630T115315Z
UID:10000018-1596358800-1596373200@lvg.nu
SUMMARY:Hedestunden
DESCRIPTION:
URL:https://lvg.nu/event/hedestunden/
LOCATION:Preem\, Margretebergsgatan 2\, Göteborg\, Sweden
ORGANIZER;CN="Lygnens Venner":MAILTO:webmaster@lvg.nu
END:VEVENT
BEGIN:VEVENT
DTSTART;TZID=UTC:20200725T090000
DTEND;TZID=UTC:20200725T130000
DTSTAMP:20260420T094641
CREATED:20200618T175950Z
LAST-MODIFIED:20200723T165903Z
UID:10000009-1595667600-1595682000@lvg.nu
SUMMARY:OBS!! Ändrad dag till lördag - Lygnens PBP
DESCRIPTION:
URL:https://lvg.nu/event/lygnens-pbp/
LOCATION:Preem\, Margretebergsgatan 2\, Göteborg\, Sweden
END:VEVENT
BEGIN:VEVENT
DTSTART;TZID=UTC:20200712T090000
DTEND;TZID=UTC:20200712T130000
DTSTAMP:20260420T094641
CREATED:20200618T180454Z
LAST-MODIFIED:20200630T114646Z
UID:10000012-1594544400-1594558800@lvg.nu
SUMMARY:Gottskärs Glass
DESCRIPTION:
URL:https://lvg.nu/event/gottskars-glass/
LOCATION:Preem\, Margretebergsgatan 2\, Göteborg\, Sweden
ORGANIZER;CN="Lygnens Venner":MAILTO:webmaster@lvg.nu
END:VEVENT
BEGIN:VEVENT
DTSTART;TZID=UTC:20200624T180000
DTEND;TZID=UTC:20200624T200000
DTSTAMP:20260420T094641
CREATED:20200519T132047Z
LAST-MODIFIED:20200622T145728Z
UID:10000002-1593021600-1593028800@lvg.nu
SUMMARY:Varla Plus
DESCRIPTION:Träning: Landsvägscykling\nPasstyp: Fartlek \nStartplats: Slottsskogen \nDistans: 61 km\nBackighet: Låg \nLäs mer i forumet
URL:https://lvg.nu/event/varla-plus/
LOCATION:Preem\, Margretebergsgatan 2\, Göteborg\, Sweden
CATEGORIES:Onsdagsrundor
ORGANIZER;CN="Lygnens Venner":MAILTO:webmaster@lvg.nu
END:VEVENT
BEGIN:VEVENT
DTSTART;TZID=UTC:20200621T090000
DTEND;TZID=UTC:20200621T130000
DTSTAMP:20260420T094641
CREATED:20200519T163822Z
LAST-MODIFIED:20200519T165506Z
UID:10000003-1592730000-1592744400@lvg.nu
SUMMARY:Inlandsbanan
DESCRIPTION:Träning: LandsvägscyklingPasstyp: Distans \nStartplats: Slottsskogen \nLängd: 84 kmBackighet: Medel  \nLäs mer i forumet
URL:https://lvg.nu/event/inlandsbanan/
LOCATION:Preem\, Margretebergsgatan 2\, Göteborg\, Sweden
CATEGORIES:Distans,Söndagsrundor,Träning
ORGANIZER;CN="Lygnens Venner":MAILTO:webmaster@lvg.nu
END:VEVENT
END:VCALENDAR